BEGIN:VCALENDAR
VERSION:2.0
PRODID:-//City District 6 - ECPv6.15.20//NONSGML v1.0//EN
CALSCALE:GREGORIAN
METHOD:PUBLISH
X-WR-CALNAME:City District 6
X-ORIGINAL-URL:https://cd6.lacity.gov
X-WR-CALDESC:Events for City District 6
REFRESH-INTERVAL;VALUE=DURATION:PT1H
X-Robots-Tag:noindex
X-PUBLISHED-TTL:PT1H
BEGIN:VTIMEZONE
TZID:UTC
BEGIN:STANDARD
TZOFFSETFROM:+0000
TZOFFSETTO:+0000
TZNAME:UTC
DTSTART:20230101T000000
END:STANDARD
END:VTIMEZONE
BEGIN:VEVENT
DTSTART;TZID=UTC:20240824T100000
DTEND;TZID=UTC:20240824T133000
DTSTAMP:20260422T043626
CREATED:20240430T204551Z
LAST-MODIFIED:20240430T204551Z
UID:1535-1724493600-1724506200@cd6.lacity.gov
SUMMARY:Arleta Community Health Fair
DESCRIPTION:Free health screenings\, educational workshops\, family entertainment\, community resources and more!
URL:https://cd6.lacity.gov/event/arleta-community-health-fair/
LOCATION:Walgreens\, 9750 Woodman Ave\, Arleta\, CA\, 91331\, United States
CATEGORIES:Health Fairs
ATTACH;FMTTYPE=image/png:https://cd6.lacity.gov/wp-content/uploads/2024/04/Arleta-Community-Health-Fair.png
END:VEVENT
END:VCALENDAR